Package: gatom Version: 1.9.2 Command: /Library/Frameworks/R.framework/Resources/bin/R CMD INSTALL gatom StartedAt: 2025-11-14 15:09:31 -0500 (Fri, 14 Nov 2025) EndedAt: 2025-11-14 15:09:39 -0500 (Fri, 14 Nov 2025) EllapsedTime: 7.7 seconds RetCode: 0 Status: OK