Package: gatom Version: 1.9.2 Command: /Library/Frameworks/R.framework/Resources/bin/R CMD build --keep-empty-dirs --no-resave-data gatom StartedAt: 2025-11-14 16:24:00 -0500 (Fri, 14 Nov 2025) EndedAt: 2025-11-14 16:25:48 -0500 (Fri, 14 Nov 2025) EllapsedTime: 107.2 seconds RetCode: 0 Status: OK PackageFile: gatom_1.9.2.tar.gz PackageFileSize: 1.611 MiB