Package: gatom Version: 1.9.2 Command: rm -rf gatom.buildbin-libdir && mkdir gatom.buildbin-libdir && /Users/biocbuild/BBS/utils/build-universal.sh gatom_1.9.2.tar.gz /Library/Frameworks/R.framework/Resources/bin/R gatom.buildbin-libdir StartedAt: 2025-11-14 23:33:33 -0500 (Fri, 14 Nov 2025) EndedAt: 2025-11-14 23:33:43 -0500 (Fri, 14 Nov 2025) EllapsedTime: 10.2 seconds RetCode: 0 Status: OK PackageFile: gatom_1.9.2.tgz PackageFileSize: 1.793 MiB