Package: gatom Version: 1.9.2 Maintainer: Alexey Sergushichev MaintainerEmail: alsergbox at gmail.com git_url: https://git.bioconductor.org/packages/gatom git_branch: devel git_last_commit: bedd7f8 git_last_commit_date: 2025-11-07 11:00:41 -0500 (Fri, 07 Nov 2025)