Package: gVenn Version: 1.1.0 Command: /Library/Frameworks/R.framework/Resources/bin/R CMD build --keep-empty-dirs --no-resave-data gVenn StartedAt: 2025-11-17 17:21:53 -0500 (Mon, 17 Nov 2025) EndedAt: 2025-11-17 17:21:59 -0500 (Mon, 17 Nov 2025) EllapsedTime: 6.1 seconds RetCode: 0 Status: OK PackageFile: gVenn_1.1.0.tar.gz PackageFileSize: 2.234 MiB