Package: gINTomics Version: 1.7.0 Command: /home/biocbuild/bbs-3.23-bioc/R/bin/R CMD build --keep-empty-dirs --no-resave-data gINTomics StartedAt: 2025-11-14 17:50:21 -0500 (Fri, 14 Nov 2025) EndedAt: 2025-11-14 17:57:52 -0500 (Fri, 14 Nov 2025) EllapsedTime: 451.3 seconds RetCode: 0 Status: OK PackageFile: gINTomics_1.7.0.tar.gz PackageFileSize: 3.504 MiB