Package: gINTomics Version: 1.7.0 Command: /Library/Frameworks/R.framework/Resources/bin/R CMD INSTALL gINTomics StartedAt: 2025-11-14 15:25:48 -0500 (Fri, 14 Nov 2025) EndedAt: 2025-11-14 15:26:23 -0500 (Fri, 14 Nov 2025) EllapsedTime: 35.5 seconds RetCode: 0 Status: OK