Package: gINTomics Version: 1.7.0 Command: /Library/Frameworks/R.framework/Resources/bin/R CMD build --keep-empty-dirs --no-resave-data gINTomics StartedAt: 2025-11-14 16:29:50 -0500 (Fri, 14 Nov 2025) EndedAt: 2025-11-14 16:35:44 -0500 (Fri, 14 Nov 2025) EllapsedTime: 353.7 seconds RetCode: 0 Status: OK PackageFile: gINTomics_1.7.0.tar.gz PackageFileSize: 3.504 MiB