Package: gINTomics Version: 1.7.0 Maintainer: Angelo Velle MaintainerEmail: angelo.velle at unipd.it git_url: https://git.bioconductor.org/packages/gINTomics git_branch: devel git_last_commit: 4cacafe git_last_commit_date: 2025-10-29 11:30:01 -0500 (Wed, 29 Oct 2025)