Package: gDRutils Version: 1.9.1 Command: /home/biocbuild/bbs-3.23-bioc/R/bin/R CMD INSTALL gDRutils StartedAt: 2025-11-11 15:42:04 -0500 (Tue, 11 Nov 2025) EndedAt: 2025-11-11 15:42:27 -0500 (Tue, 11 Nov 2025) EllapsedTime: 23.3 seconds RetCode: 0 Status: OK