Package: gDRutils Version: 1.9.1 Command: /home/biocbuild/bbs-3.23-bioc/R/bin/R CMD build --keep-empty-dirs --no-resave-data gDRutils StartedAt: 2025-11-11 17:44:32 -0500 (Tue, 11 Nov 2025) EndedAt: 2025-11-11 17:45:07 -0500 (Tue, 11 Nov 2025) EllapsedTime: 35.0 seconds RetCode: 0 Status: OK PackageFile: gDRutils_1.9.1.tar.gz PackageFileSize: 344 KiB