Package: gDRutils Version: 1.9.1 Command: /Library/Frameworks/R.framework/Resources/bin/R CMD INSTALL gDRutils StartedAt: 2025-11-12 15:37:06 -0500 (Wed, 12 Nov 2025) EndedAt: 2025-11-12 15:37:15 -0500 (Wed, 12 Nov 2025) EllapsedTime: 8.8 seconds RetCode: 0 Status: OK