Package: gDRutils Version: 1.9.1 Command: /Library/Frameworks/R.framework/Resources/bin/R CMD build --keep-empty-dirs --no-resave-data gDRutils StartedAt: 2025-11-12 16:17:38 -0500 (Wed, 12 Nov 2025) EndedAt: 2025-11-12 16:17:53 -0500 (Wed, 12 Nov 2025) EllapsedTime: 15.2 seconds RetCode: 0 Status: OK PackageFile: gDRutils_1.9.1.tar.gz PackageFileSize: 344 KiB