Package: gDRutils Version: 1.9.1 Command: rm -rf gDRutils.buildbin-libdir && mkdir gDRutils.buildbin-libdir && /Users/biocbuild/BBS/utils/build-universal.sh gDRutils_1.9.1.tar.gz /Library/Frameworks/R.framework/Resources/bin/R gDRutils.buildbin-libdir StartedAt: 2025-11-12 20:58:04 -0500 (Wed, 12 Nov 2025) EndedAt: 2025-11-12 20:58:15 -0500 (Wed, 12 Nov 2025) EllapsedTime: 11.3 seconds RetCode: 0 Status: OK PackageFile: gDRutils_1.9.1.tgz PackageFileSize: 691 KiB