Package: gDRutils Version: 1.9.1 Maintainer: Arkadiusz Gladki MaintainerEmail: gladki.arkadiusz at gmail.com git_url: https://git.bioconductor.org/packages/gDRutils git_branch: devel git_last_commit: 4a412dc git_last_commit_date: 2025-10-30 05:33:15 -0500 (Thu, 30 Oct 2025)