Package: gDRcore Version: 1.9.1 Command: /Library/Frameworks/R.framework/Resources/bin/R CMD INSTALL gDRcore StartedAt: 2025-11-13 15:21:15 -0500 (Thu, 13 Nov 2025) EndedAt: 2025-11-13 15:21:21 -0500 (Thu, 13 Nov 2025) EllapsedTime: 6.3 seconds RetCode: 0 Status: OK