Package: gDRcore Version: 1.9.1 Command: /Library/Frameworks/R.framework/Resources/bin/R CMD build --keep-empty-dirs --no-resave-data gDRcore StartedAt: 2025-11-12 16:17:20 -0500 (Wed, 12 Nov 2025) EndedAt: 2025-11-12 16:17:38 -0500 (Wed, 12 Nov 2025) EllapsedTime: 18.2 seconds RetCode: 0 Status: OK PackageFile: gDRcore_1.9.1.tar.gz PackageFileSize: 1.042 MiB