Package: gDR Version: 1.9.1 Command: /home/biocbuild/bbs-3.23-bioc/R/bin/R CMD INSTALL gDR StartedAt: 2025-11-19 15:41:49 -0500 (Wed, 19 Nov 2025) EndedAt: 2025-11-19 15:42:13 -0500 (Wed, 19 Nov 2025) EllapsedTime: 23.8 seconds RetCode: 0 Status: OK