Package: gDR Version: 1.9.1 Command: /home/biocbuild/bbs-3.23-bioc/R/bin/R CMD build --keep-empty-dirs --no-resave-data gDR StartedAt: 2025-11-19 17:45:19 -0500 (Wed, 19 Nov 2025) EndedAt: 2025-11-19 17:46:12 -0500 (Wed, 19 Nov 2025) EllapsedTime: 53.0 seconds RetCode: 0 Status: OK PackageFile: gDR_1.9.1.tar.gz PackageFileSize: 276.1 KiB