Package: gDR Version: 1.9.1 Command: rm -rf gDR.buildbin-libdir && mkdir gDR.buildbin-libdir && /Users/biocbuild/BBS/utils/build-universal.sh gDR_1.9.1.tar.gz /Library/Frameworks/R.framework/Resources/bin/R gDR.buildbin-libdir StartedAt: 2025-11-14 23:33:40 -0500 (Fri, 14 Nov 2025) EndedAt: 2025-11-14 23:33:57 -0500 (Fri, 14 Nov 2025) EllapsedTime: 16.3 seconds RetCode: 0 Status: OK PackageFile: gDR_1.9.1.tgz PackageFileSize: 279.5 KiB