Package: gDR Version: 1.9.1 Maintainer: Arkadiusz Gladki MaintainerEmail: gladki.arkadiusz at gmail.com git_url: https://git.bioconductor.org/packages/gDR git_branch: devel git_last_commit: 9871bb8 git_last_commit_date: 2025-10-30 05:31:39 -0500 (Thu, 30 Oct 2025)