Package: gDNAx Version: 1.9.0 Command: /home/biocbuild/bbs-3.23-bioc/R/bin/R CMD build --keep-empty-dirs --no-resave-data gDNAx StartedAt: 2025-11-13 17:41:13 -0500 (Thu, 13 Nov 2025) EndedAt: 2025-11-13 17:44:40 -0500 (Thu, 13 Nov 2025) EllapsedTime: 207.2 seconds RetCode: 0 Status: OK PackageFile: gDNAx_1.9.0.tar.gz PackageFileSize: 738.3 KiB