Package: gDNAx Version: 1.9.0 Command: /Library/Frameworks/R.framework/Resources/bin/R CMD INSTALL gDNAx StartedAt: 2025-11-14 15:29:06 -0500 (Fri, 14 Nov 2025) EndedAt: 2025-11-14 15:29:25 -0500 (Fri, 14 Nov 2025) EllapsedTime: 18.4 seconds RetCode: 0 Status: OK