Package: gDNAx Version: 1.9.0 Command: /Library/Frameworks/R.framework/Resources/bin/R CMD build --keep-empty-dirs --no-resave-data gDNAx StartedAt: 2025-11-14 16:24:26 -0500 (Fri, 14 Nov 2025) EndedAt: 2025-11-14 16:25:59 -0500 (Fri, 14 Nov 2025) EllapsedTime: 93.0 seconds RetCode: 0 Status: OK PackageFile: gDNAx_1.9.0.tar.gz PackageFileSize: 742.1 KiB