Package: gDNAx Version: 1.9.0 Maintainer: Robert Castelo MaintainerEmail: robert.castelo at upf.edu git_url: https://git.bioconductor.org/packages/gDNAx git_branch: devel git_last_commit: 64d243e git_last_commit_date: 2025-10-29 11:24:57 -0500 (Wed, 29 Oct 2025)