Package: gCrisprTools Version: 2.17.0 Command: /home/biocbuild/bbs-3.23-bioc/R/bin/R CMD INSTALL gCrisprTools StartedAt: 2025-11-14 15:19:24 -0500 (Fri, 14 Nov 2025) EndedAt: 2025-11-14 15:19:50 -0500 (Fri, 14 Nov 2025) EllapsedTime: 26.8 seconds RetCode: 0 Status: OK