Package: gCrisprTools Version: 2.17.0 Command: /Library/Frameworks/R.framework/Resources/bin/R CMD INSTALL gCrisprTools StartedAt: 2025-11-13 15:11:53 -0500 (Thu, 13 Nov 2025) EndedAt: 2025-11-13 15:12:04 -0500 (Thu, 13 Nov 2025) EllapsedTime: 10.6 seconds RetCode: 0 Status: OK