Package: gCrisprTools Version: 2.17.0 Command: /Library/Frameworks/R.framework/Resources/bin/R CMD build --keep-empty-dirs --no-resave-data gCrisprTools StartedAt: 2025-11-13 16:27:28 -0500 (Thu, 13 Nov 2025) EndedAt: 2025-11-13 16:29:17 -0500 (Thu, 13 Nov 2025) EllapsedTime: 109.3 seconds RetCode: 0 Status: OK PackageFile: gCrisprTools_2.17.0.tar.gz PackageFileSize: 4.71 MiB