Package: gCrisprTools Version: 2.17.0 Maintainer: Russell Bainer MaintainerEmail: russ.bainer at gmail.com git_url: https://git.bioconductor.org/packages/gCrisprTools git_branch: devel git_last_commit: d372d36 git_last_commit_date: 2025-10-29 10:34:14 -0500 (Wed, 29 Oct 2025)