Package: funtooNorm Version: 1.35.0 Command: /home/biocbuild/bbs-3.23-bioc/R/bin/R CMD INSTALL funtooNorm StartedAt: 2025-11-14 15:46:47 -0500 (Fri, 14 Nov 2025) EndedAt: 2025-11-14 15:47:31 -0500 (Fri, 14 Nov 2025) EllapsedTime: 43.6 seconds RetCode: 0 Status: OK