Package: funtooNorm Version: 1.35.0 Command: /Library/Frameworks/R.framework/Resources/bin/R CMD INSTALL funtooNorm StartedAt: 2025-11-14 15:24:16 -0500 (Fri, 14 Nov 2025) EndedAt: 2025-11-14 15:24:35 -0500 (Fri, 14 Nov 2025) EllapsedTime: 18.9 seconds RetCode: 0 Status: OK