Package: funtooNorm Version: 1.35.0 Command: /Library/Frameworks/R.framework/Resources/bin/R CMD build --keep-empty-dirs --no-resave-data funtooNorm StartedAt: 2025-11-14 16:23:30 -0500 (Fri, 14 Nov 2025) EndedAt: 2025-11-14 16:23:31 -0500 (Fri, 14 Nov 2025) EllapsedTime: 1.0 seconds RetCode: 0 Status: OK PackageFile: funtooNorm_1.35.0.tar.gz PackageFileSize: 2.458 MiB