Package: funtooNorm Version: 1.35.0 Command: rm -rf funtooNorm.buildbin-libdir && mkdir funtooNorm.buildbin-libdir && /Users/biocbuild/BBS/utils/build-universal.sh funtooNorm_1.35.0.tar.gz /Library/Frameworks/R.framework/Resources/bin/R funtooNorm.buildbin-libdir StartedAt: 2025-11-14 23:33:16 -0500 (Fri, 14 Nov 2025) EndedAt: 2025-11-14 23:33:46 -0500 (Fri, 14 Nov 2025) EllapsedTime: 29.5 seconds RetCode: 0 Status: OK PackageFile: funtooNorm_1.35.0.tgz PackageFileSize: 1.143 MiB