Package: funtooNorm Version: 1.35.0 Maintainer: Kathleen Klein MaintainerEmail: kathleen.klein at mail.mcgill.ca git_url: https://git.bioconductor.org/packages/funtooNorm git_branch: devel git_last_commit: d940549 git_last_commit_date: 2025-10-29 10:36:21 -0500 (Wed, 29 Oct 2025)