Package: funOmics Version: 1.5.0 Command: /home/biocbuild/bbs-3.23-bioc/R/bin/R CMD INSTALL funOmics StartedAt: 2025-11-26 15:26:44 -0500 (Wed, 26 Nov 2025) EndedAt: 2025-11-26 15:27:01 -0500 (Wed, 26 Nov 2025) EllapsedTime: 17.3 seconds RetCode: 0 Status: OK