Package: funOmics Version: 1.5.0 Command: /home/biocbuild/bbs-3.23-bioc/R/bin/R CMD build --keep-empty-dirs --no-resave-data funOmics StartedAt: 2025-11-25 17:43:10 -0500 (Tue, 25 Nov 2025) EndedAt: 2025-11-25 17:48:57 -0500 (Tue, 25 Nov 2025) EllapsedTime: 346.6 seconds RetCode: 0 Status: OK PackageFile: funOmics_1.5.0.tar.gz PackageFileSize: 52.31 KiB