Package: funOmics Version: 1.5.0 Command: /Library/Frameworks/R.framework/Resources/bin/R CMD INSTALL funOmics StartedAt: 2025-11-14 15:09:44 -0500 (Fri, 14 Nov 2025) EndedAt: 2025-11-14 15:09:51 -0500 (Fri, 14 Nov 2025) EllapsedTime: 7.0 seconds RetCode: 0 Status: OK