Package: funOmics Version: 1.5.0 Command: /Library/Frameworks/R.framework/Resources/bin/R CMD build --keep-empty-dirs --no-resave-data funOmics StartedAt: 2025-11-14 16:23:30 -0500 (Fri, 14 Nov 2025) EndedAt: 2025-11-14 16:26:20 -0500 (Fri, 14 Nov 2025) EllapsedTime: 170.0 seconds RetCode: 0 Status: OK PackageFile: funOmics_1.5.0.tar.gz PackageFileSize: 52.51 KiB