Package: frmaTools Version: 1.63.0 Command: /Library/Frameworks/R.framework/Resources/bin/R CMD INSTALL frmaTools StartedAt: 2025-11-23 15:07:26 -0500 (Sun, 23 Nov 2025) EndedAt: 2025-11-23 15:07:28 -0500 (Sun, 23 Nov 2025) EllapsedTime: 1.7 seconds RetCode: 0 Status: OK