Package: frmaTools Version: 1.63.0 Command: rm -rf frmaTools.buildbin-libdir && mkdir frmaTools.buildbin-libdir && /Users/biocbuild/BBS/utils/build-universal.sh frmaTools_1.63.0.tar.gz /Library/Frameworks/R.framework/Resources/bin/R frmaTools.buildbin-libdir StartedAt: 2025-11-23 23:36:10 -0500 (Sun, 23 Nov 2025) EndedAt: 2025-11-23 23:36:13 -0500 (Sun, 23 Nov 2025) EllapsedTime: 3.1 seconds RetCode: 0 Status: OK PackageFile: frmaTools_1.63.0.tgz PackageFileSize: 185.2 KiB