Package: fobitools Version: 1.19.0 Command: /home/biocbuild/bbs-3.23-bioc/R/bin/R CMD INSTALL fobitools StartedAt: 2025-11-14 15:11:04 -0500 (Fri, 14 Nov 2025) EndedAt: 2025-11-14 15:11:19 -0500 (Fri, 14 Nov 2025) EllapsedTime: 15.8 seconds RetCode: 0 Status: OK