Package: fobitools Version: 1.19.0 Command: /home/biocbuild/bbs-3.23-bioc/R/bin/R CMD build --keep-empty-dirs --no-resave-data fobitools StartedAt: 2025-11-13 17:39:22 -0500 (Thu, 13 Nov 2025) EndedAt: 2025-11-13 17:40:35 -0500 (Thu, 13 Nov 2025) EllapsedTime: 73.1 seconds RetCode: 0 Status: OK PackageFile: fobitools_1.19.0.tar.gz PackageFileSize: 4.901 MiB