Package: fobitools Version: 1.19.0 Command: /Library/Frameworks/R.framework/Resources/bin/R CMD INSTALL fobitools StartedAt: 2025-11-14 15:06:20 -0500 (Fri, 14 Nov 2025) EndedAt: 2025-11-14 15:06:29 -0500 (Fri, 14 Nov 2025) EllapsedTime: 8.8 seconds RetCode: 0 Status: OK