Package: fobitools Version: 1.19.0 Maintainer: Pol Castellano-Escuder MaintainerEmail: polcaes at gmail.com git_url: https://git.bioconductor.org/packages/fobitools git_branch: devel git_last_commit: f026ba6 git_last_commit_date: 2025-10-29 11:06:08 -0500 (Wed, 29 Oct 2025)