Package: fmcsR Version: 1.53.0 Command: /Library/Frameworks/R.framework/Resources/bin/R CMD INSTALL fmcsR StartedAt: 2025-11-14 15:07:36 -0500 (Fri, 14 Nov 2025) EndedAt: 2025-11-14 15:07:45 -0500 (Fri, 14 Nov 2025) EllapsedTime: 8.6 seconds RetCode: 0 Status: OK