Package: fmcsR Version: 1.53.0 Command: rm -rf fmcsR.buildbin-libdir && mkdir fmcsR.buildbin-libdir && /Users/biocbuild/BBS/utils/build-universal.sh fmcsR_1.53.0.tar.gz /Library/Frameworks/R.framework/Resources/bin/R fmcsR.buildbin-libdir StartedAt: 2025-11-16 23:34:22 -0500 (Sun, 16 Nov 2025) EndedAt: 2025-11-16 23:34:41 -0500 (Sun, 16 Nov 2025) EllapsedTime: 19.3 seconds RetCode: 0 Status: OK PackageFile: fmcsR_1.53.0.tgz PackageFileSize: 1016 KiB