Package: flowcatchR Version: 1.45.0 Command: /home/biocbuild/bbs-3.23-bioc/R/bin/R CMD INSTALL flowcatchR StartedAt: 2025-11-16 15:15:14 -0500 (Sun, 16 Nov 2025) EndedAt: 2025-11-16 15:15:24 -0500 (Sun, 16 Nov 2025) EllapsedTime: 10.2 seconds RetCode: 0 Status: OK