Package: flowcatchR Version: 1.45.0 Command: /home/biocbuild/bbs-3.23-bioc/R/bin/R CMD build --keep-empty-dirs --no-resave-data flowcatchR StartedAt: 2025-11-16 17:38:56 -0500 (Sun, 16 Nov 2025) EndedAt: 2025-11-16 17:39:33 -0500 (Sun, 16 Nov 2025) EllapsedTime: 37.0 seconds RetCode: 0 Status: OK PackageFile: flowcatchR_1.45.0.tar.gz PackageFileSize: 6.69 MiB