Package: flowcatchR Version: 1.45.0 Command: /Library/Frameworks/R.framework/Resources/bin/R CMD build --keep-empty-dirs --no-resave-data flowcatchR StartedAt: 2025-11-12 16:15:57 -0500 (Wed, 12 Nov 2025) EndedAt: 2025-11-12 16:16:14 -0500 (Wed, 12 Nov 2025) EllapsedTime: 17.2 seconds RetCode: 0 Status: OK PackageFile: flowcatchR_1.45.0.tar.gz PackageFileSize: 6.85 MiB