Package: flowcatchR Version: 1.45.0 Maintainer: Federico Marini MaintainerEmail: marinif at uni-mainz.de git_url: https://git.bioconductor.org/packages/flowcatchR git_branch: devel git_last_commit: 1168ab0 git_last_commit_date: 2025-10-29 10:22:08 -0500 (Wed, 29 Oct 2025)